BEGIN:VCALENDAR
VERSION:2.0
PRODID:-//L&#039;appel des pioches - ECPv6.15.20//NONSGML v1.0//EN
CALSCALE:GREGORIAN
METHOD:PUBLISH
X-ORIGINAL-URL:https://lappeldespioches.com
X-WR-CALDESC:Évènements pour L&#039;appel des pioches
REFRESH-INTERVAL;VALUE=DURATION:PT1H
X-Robots-Tag:noindex
X-PUBLISHED-TTL:PT1H
BEGIN:VTIMEZONE
TZID:Europe/Paris
BEGIN:DAYLIGHT
TZOFFSETFROM:+0100
TZOFFSETTO:+0200
TZNAME:CEST
DTSTART:20230326T010000
END:DAYLIGHT
BEGIN:STANDARD
TZOFFSETFROM:+0200
TZOFFSETTO:+0100
TZNAME:CET
DTSTART:20231029T010000
END:STANDARD
BEGIN:DAYLIGHT
TZOFFSETFROM:+0100
TZOFFSETTO:+0200
TZNAME:CEST
DTSTART:20240331T010000
END:DAYLIGHT
BEGIN:STANDARD
TZOFFSETFROM:+0200
TZOFFSETTO:+0100
TZNAME:CET
DTSTART:20241027T010000
END:STANDARD
BEGIN:DAYLIGHT
TZOFFSETFROM:+0100
TZOFFSETTO:+0200
TZNAME:CEST
DTSTART:20250330T010000
END:DAYLIGHT
BEGIN:STANDARD
TZOFFSETFROM:+0200
TZOFFSETTO:+0100
TZNAME:CET
DTSTART:20251026T010000
END:STANDARD
END:VTIMEZONE
BEGIN:VEVENT
DTSTART;TZID=Europe/Paris:20240424T193000
DTEND;TZID=Europe/Paris:20240424T213000
DTSTAMP:20260422T001551
CREATED:20240416T085211Z
LAST-MODIFIED:20240416T085211Z
UID:2442-1713987000-1713994200@lappeldespioches.com
SUMMARY:L'à part' thé littéraire
DESCRIPTION:
URL:https://lappeldespioches.com/event/la-part-the-litteraire-6/
LOCATION:Anartiste\, Lavigney\, France
CATEGORIES:Bibliothèque
ATTACH;FMTTYPE=image/jpeg:https://lappeldespioches.com/wp-content/uploads/2024/02/Partthe-litteraire.jpg
END:VEVENT
END:VCALENDAR