BEGIN:VCALENDAR
VERSION:2.0
PRODID:-//L&#039;appel des pioches - ECPv6.15.20//NONSGML v1.0//EN
CALSCALE:GREGORIAN
METHOD:PUBLISH
X-WR-CALNAME:L&#039;appel des pioches
X-ORIGINAL-URL:https://lappeldespioches.com
X-WR-CALDESC:Évènements pour L&#039;appel des pioches
REFRESH-INTERVAL;VALUE=DURATION:PT1H
X-Robots-Tag:noindex
X-PUBLISHED-TTL:PT1H
BEGIN:VTIMEZONE
TZID:Europe/Paris
BEGIN:DAYLIGHT
TZOFFSETFROM:+0100
TZOFFSETTO:+0200
TZNAME:CEST
DTSTART:20220327T010000
END:DAYLIGHT
BEGIN:STANDARD
TZOFFSETFROM:+0200
TZOFFSETTO:+0100
TZNAME:CET
DTSTART:20221030T010000
END:STANDARD
BEGIN:DAYLIGHT
TZOFFSETFROM:+0100
TZOFFSETTO:+0200
TZNAME:CEST
DTSTART:20230326T010000
END:DAYLIGHT
BEGIN:STANDARD
TZOFFSETFROM:+0200
TZOFFSETTO:+0100
TZNAME:CET
DTSTART:20231029T010000
END:STANDARD
BEGIN:DAYLIGHT
TZOFFSETFROM:+0100
TZOFFSETTO:+0200
TZNAME:CEST
DTSTART:20240331T010000
END:DAYLIGHT
BEGIN:STANDARD
TZOFFSETFROM:+0200
TZOFFSETTO:+0100
TZNAME:CET
DTSTART:20241027T010000
END:STANDARD
END:VTIMEZONE
BEGIN:VEVENT
DTSTART;TZID=Europe/Paris:20230401T093000
DTEND;TZID=Europe/Paris:20230401T120000
DTSTAMP:20260422T013209
CREATED:20230322T103410Z
LAST-MODIFIED:20230322T103410Z
UID:1320-1680341400-1680350400@lappeldespioches.com
SUMMARY:Café Anartiste
DESCRIPTION:CAFÉ ANARTISTE\ntous les samedis matins!\n9h30-12h00 \nTisane\, café\, chocolat chaud et papotages \n~ bibliothèque ouverte ~
URL:https://lappeldespioches.com/event/cafe-anartiste-7/
LOCATION:Anartiste\, Lavigney\, France
CATEGORIES:Samedis matins
END:VEVENT
BEGIN:VEVENT
DTSTART;TZID=Europe/Paris:20230408T093000
DTEND;TZID=Europe/Paris:20230408T120000
DTSTAMP:20260422T013209
CREATED:20230322T103442Z
LAST-MODIFIED:20230322T103442Z
UID:1322-1680946200-1680955200@lappeldespioches.com
SUMMARY:Café Anartiste
DESCRIPTION:CAFÉ ANARTISTE\ntous les samedis matins!\n9h30-12h00 \nTisane\, café\, chocolat chaud et papotages \n~ bibliothèque ouverte ~
URL:https://lappeldespioches.com/event/cafe-anartiste-8/
LOCATION:Anartiste\, Lavigney\, France
CATEGORIES:Samedis matins
END:VEVENT
BEGIN:VEVENT
DTSTART;TZID=Europe/Paris:20230415T093000
DTEND;TZID=Europe/Paris:20230415T120000
DTSTAMP:20260422T013209
CREATED:20230322T103516Z
LAST-MODIFIED:20230322T103516Z
UID:1324-1681551000-1681560000@lappeldespioches.com
SUMMARY:Café Anartiste
DESCRIPTION:CAFÉ ANARTISTE\ntous les samedis matins!\n9h30-12h00 \nTisane\, café\, chocolat chaud et papotages \n~ bibliothèque ouverte ~
URL:https://lappeldespioches.com/event/cafe-anartiste-9/
LOCATION:Anartiste\, Lavigney\, France
CATEGORIES:Samedis matins
END:VEVENT
BEGIN:VEVENT
DTSTART;TZID=Europe/Paris:20230422T093000
DTEND;TZID=Europe/Paris:20230422T120000
DTSTAMP:20260422T013209
CREATED:20230322T103551Z
LAST-MODIFIED:20230322T103551Z
UID:1326-1682155800-1682164800@lappeldespioches.com
SUMMARY:Café Anartiste
DESCRIPTION:CAFÉ ANARTISTE\ntous les samedis matins!\n9h30-12h00 \nTisane\, café\, chocolat chaud et papotages \n~ bibliothèque ouverte ~
URL:https://lappeldespioches.com/event/cafe-anartiste-10/
LOCATION:Anartiste\, Lavigney\, France
CATEGORIES:Samedis matins
END:VEVENT
BEGIN:VEVENT
DTSTART;TZID=Europe/Paris:20230429T093000
DTEND;TZID=Europe/Paris:20230429T120000
DTSTAMP:20260422T013209
CREATED:20230322T103625Z
LAST-MODIFIED:20230322T103625Z
UID:1328-1682760600-1682769600@lappeldespioches.com
SUMMARY:Café Anartiste
DESCRIPTION:CAFÉ ANARTISTE\ntous les samedis matins!\n9h30-12h00 \nTisane\, café\, chocolat chaud et papotages \n~ bibliothèque ouverte ~
URL:https://lappeldespioches.com/event/cafe-anartiste-11/
LOCATION:Anartiste\, Lavigney\, France
CATEGORIES:Samedis matins
END:VEVENT
END:VCALENDAR