BEGIN:VCALENDAR
VERSION:2.0
PRODID:-//L&#039;appel des pioches - ECPv6.15.20//NONSGML v1.0//EN
CALSCALE:GREGORIAN
METHOD:PUBLISH
X-ORIGINAL-URL:https://lappeldespioches.com
X-WR-CALDESC:Évènements pour L&#039;appel des pioches
REFRESH-INTERVAL;VALUE=DURATION:PT1H
X-Robots-Tag:noindex
X-PUBLISHED-TTL:PT1H
BEGIN:VTIMEZONE
TZID:Europe/Paris
BEGIN:DAYLIGHT
TZOFFSETFROM:+0100
TZOFFSETTO:+0200
TZNAME:CEST
DTSTART:20230326T010000
END:DAYLIGHT
BEGIN:STANDARD
TZOFFSETFROM:+0200
TZOFFSETTO:+0100
TZNAME:CET
DTSTART:20231029T010000
END:STANDARD
BEGIN:DAYLIGHT
TZOFFSETFROM:+0100
TZOFFSETTO:+0200
TZNAME:CEST
DTSTART:20240331T010000
END:DAYLIGHT
BEGIN:STANDARD
TZOFFSETFROM:+0200
TZOFFSETTO:+0100
TZNAME:CET
DTSTART:20241027T010000
END:STANDARD
BEGIN:DAYLIGHT
TZOFFSETFROM:+0100
TZOFFSETTO:+0200
TZNAME:CEST
DTSTART:20250330T010000
END:DAYLIGHT
BEGIN:STANDARD
TZOFFSETFROM:+0200
TZOFFSETTO:+0100
TZNAME:CET
DTSTART:20251026T010000
END:STANDARD
END:VTIMEZONE
BEGIN:VEVENT
DTSTART;TZID=Europe/Paris:20240106T093000
DTEND;TZID=Europe/Paris:20240106T120000
DTSTAMP:20260421T130031
CREATED:20231005T090055Z
LAST-MODIFIED:20240102T125628Z
UID:1811-1704533400-1704542400@lappeldespioches.com
SUMMARY:Café Anartiste
DESCRIPTION:CAFÉ ANARTISTE\ntous les samedis matins!\n9h30-12h00 \nTisane\, café\, chocolat chaud et papotages \n \n  \n> la bibliothèque est ouverte chaque samedi matin et notre collection devient vaste et surtout de mieux en mieux chaque semaine. Viens profiter! \n  \n\nchaque samedi tu peux profiter d’une massage assis par Céline: prix libre (par réservation) \n\n  \n> et le premier samedi du mois la grillotine des Nèfles nous rend visite pour que toutes nos messages seront lus\, cries\, chantés\, murmurés! \nTu as une message pour elle? Dépose-le à l’Anartiste dans sa boîte à messages!
URL:https://lappeldespioches.com/event/cafe-anartiste-25/
LOCATION:Anartiste\, Lavigney\, France
CATEGORIES:Samedis matins
END:VEVENT
BEGIN:VEVENT
DTSTART;TZID=Europe/Paris:20240113T093000
DTEND;TZID=Europe/Paris:20240113T120000
DTSTAMP:20260421T130031
CREATED:20240102T125720Z
LAST-MODIFIED:20240106T140627Z
UID:2014-1705138200-1705147200@lappeldespioches.com
SUMMARY:Café Anartiste
DESCRIPTION:CAFÉ ANARTISTE\ntous les samedis matins!\n9h30-12h00 \nTisane\, café\, chocolat chaud et papotages \n> la bibliothèque est ouverte chaque samedi matin et notre collection devient vaste et surtout de mieux en mieux chaque semaine. Viens profiter! \n  \n> chaque samedi tu peux profiter d’une massage assis par Céline: prix libre (par réservation) \n  \n> et le premier samedi du mois la grillotine des Nèfles nous rend visite pour que toutes nos messages seront lus\, cries\, chantés\, murmurés! \nTu as une message pour elle? Dépose-le à l’Anartiste dans sa boîte à messages!
URL:https://lappeldespioches.com/event/cafe-anartiste-31/
LOCATION:Anartiste\, Lavigney\, France
CATEGORIES:Samedis matins
ATTACH;FMTTYPE=image/jpeg:https://lappeldespioches.com/wp-content/uploads/2024/01/cafe-2.jpg
END:VEVENT
BEGIN:VEVENT
DTSTART;TZID=Europe/Paris:20240120T093000
DTEND;TZID=Europe/Paris:20240120T120000
DTSTAMP:20260421T130031
CREATED:20240102T125810Z
LAST-MODIFIED:20240106T140332Z
UID:2016-1705743000-1705752000@lappeldespioches.com
SUMMARY:Café Anartiste
DESCRIPTION:CAFÉ ANARTISTE\ntous les samedis matins!\n9h30-12h00 \nTisane\, café\, chocolat chaud et papotages \n  \n> la bibliothèque est ouverte chaque samedi matin et notre collection devient vaste et surtout de mieux en mieux chaque semaine. Viens profiter! \n  \n> chaque samedi tu peux profiter d’une massage assis par Céline: prix libre (par réservation) \n  \n> et le premier samedi du mois la grillotine des Nèfles nous rend visite pour que toutes nos messages seront lus\, cries\, chantés\, murmurés! \nTu as une message pour elle? Dépose-le à l’Anartiste dans sa boîte à messages!
URL:https://lappeldespioches.com/event/cafe-anartiste-32/
LOCATION:Anartiste\, Lavigney\, France
CATEGORIES:Samedis matins
ATTACH;FMTTYPE=image/jpeg:https://lappeldespioches.com/wp-content/uploads/2024/01/cafe-2.jpg
END:VEVENT
BEGIN:VEVENT
DTSTART;TZID=Europe/Paris:20240127T093000
DTEND;TZID=Europe/Paris:20240127T120000
DTSTAMP:20260421T130031
CREATED:20240102T125846Z
LAST-MODIFIED:20240106T140249Z
UID:2018-1706347800-1706356800@lappeldespioches.com
SUMMARY:Café Anartiste
DESCRIPTION:CAFÉ ANARTISTE\ntous les samedis matins!\n9h30-12h00 \nTisane\, café\, chocolat chaud et papotages \n  \n> la bibliothèque est ouverte chaque samedi matin et notre collection devient vaste et surtout de mieux en mieux chaque semaine. Viens profiter! \n  \n> chaque samedi tu peux profiter d’une massage assis par Céline: prix libre (par réservation) \n  \n> et le premier samedi du mois la grillotine des Nèfles nous rend visite pour que toutes nos messages seront lus\, cries\, chantés\, murmurés! \nTu as une message pour elle? Dépose-le à l’Anartiste dans sa boîte à messages!
URL:https://lappeldespioches.com/event/cafe-anartiste-33/
LOCATION:Anartiste\, Lavigney\, France
CATEGORIES:Samedis matins
ATTACH;FMTTYPE=image/jpeg:https://lappeldespioches.com/wp-content/uploads/2024/01/cafe-2.jpg
END:VEVENT
END:VCALENDAR