BEGIN:VCALENDAR
VERSION:2.0
PRODID:-//L&#039;appel des pioches - ECPv6.15.20//NONSGML v1.0//EN
CALSCALE:GREGORIAN
METHOD:PUBLISH
X-ORIGINAL-URL:https://lappeldespioches.com
X-WR-CALDESC:Évènements pour L&#039;appel des pioches
REFRESH-INTERVAL;VALUE=DURATION:PT1H
X-Robots-Tag:noindex
X-PUBLISHED-TTL:PT1H
BEGIN:VTIMEZONE
TZID:Europe/Paris
BEGIN:DAYLIGHT
TZOFFSETFROM:+0100
TZOFFSETTO:+0200
TZNAME:CEST
DTSTART:20230326T010000
END:DAYLIGHT
BEGIN:STANDARD
TZOFFSETFROM:+0200
TZOFFSETTO:+0100
TZNAME:CET
DTSTART:20231029T010000
END:STANDARD
BEGIN:DAYLIGHT
TZOFFSETFROM:+0100
TZOFFSETTO:+0200
TZNAME:CEST
DTSTART:20240331T010000
END:DAYLIGHT
BEGIN:STANDARD
TZOFFSETFROM:+0200
TZOFFSETTO:+0100
TZNAME:CET
DTSTART:20241027T010000
END:STANDARD
BEGIN:DAYLIGHT
TZOFFSETFROM:+0100
TZOFFSETTO:+0200
TZNAME:CEST
DTSTART:20250330T010000
END:DAYLIGHT
BEGIN:STANDARD
TZOFFSETFROM:+0200
TZOFFSETTO:+0100
TZNAME:CET
DTSTART:20251026T010000
END:STANDARD
END:VTIMEZONE
BEGIN:VEVENT
DTSTART;TZID=Europe/Paris:20240203T093000
DTEND;TZID=Europe/Paris:20240203T120000
DTSTAMP:20260421T141914
CREATED:20240106T140443Z
LAST-MODIFIED:20240106T140513Z
UID:2057-1706952600-1706961600@lappeldespioches.com
SUMMARY:Café Anartiste
DESCRIPTION:CAFÉ ANARTISTE\ntous les samedis matins!\n9h30-12h00 \nTisane\, café\, chocolat chaud et papotages \n  \n> la bibliothèque est ouverte chaque samedi matin et notre collection devient vaste et surtout de mieux en mieux chaque semaine. Viens profiter! \n  \n> chaque samedi tu peux profiter d’une massage assis par Céline: prix libre (par réservation) \n  \n> et le premier samedi du mois la grillotine des Nèfles nous rend visite pour que toutes nos messages seront lus\, cries\, chantés\, murmurés! \nTu as une message pour elle? Dépose-le à l’Anartiste dans sa boîte à messages!
URL:https://lappeldespioches.com/event/cafe-anartiste-34/
LOCATION:Anartiste\, Lavigney\, France
CATEGORIES:Samedis matins
ATTACH;FMTTYPE=image/jpeg:https://lappeldespioches.com/wp-content/uploads/2024/01/cafe-2.jpg
END:VEVENT
END:VCALENDAR