BEGIN:VCALENDAR
VERSION:2.0
PRODID:-//L&#039;appel des pioches - ECPv6.15.20//NONSGML v1.0//EN
CALSCALE:GREGORIAN
METHOD:PUBLISH
X-WR-CALNAME:L&#039;appel des pioches
X-ORIGINAL-URL:https://lappeldespioches.com
X-WR-CALDESC:Évènements pour L&#039;appel des pioches
REFRESH-INTERVAL;VALUE=DURATION:PT1H
X-Robots-Tag:noindex
X-PUBLISHED-TTL:PT1H
BEGIN:VTIMEZONE
TZID:Europe/Paris
BEGIN:DAYLIGHT
TZOFFSETFROM:+0100
TZOFFSETTO:+0200
TZNAME:CEST
DTSTART:20230326T010000
END:DAYLIGHT
BEGIN:STANDARD
TZOFFSETFROM:+0200
TZOFFSETTO:+0100
TZNAME:CET
DTSTART:20231029T010000
END:STANDARD
BEGIN:DAYLIGHT
TZOFFSETFROM:+0100
TZOFFSETTO:+0200
TZNAME:CEST
DTSTART:20240331T010000
END:DAYLIGHT
BEGIN:STANDARD
TZOFFSETFROM:+0200
TZOFFSETTO:+0100
TZNAME:CET
DTSTART:20241027T010000
END:STANDARD
BEGIN:DAYLIGHT
TZOFFSETFROM:+0100
TZOFFSETTO:+0200
TZNAME:CEST
DTSTART:20250330T010000
END:DAYLIGHT
BEGIN:STANDARD
TZOFFSETFROM:+0200
TZOFFSETTO:+0100
TZNAME:CET
DTSTART:20251026T010000
END:STANDARD
END:VTIMEZONE
BEGIN:VEVENT
DTSTART;TZID=Europe/Paris:20240330T093000
DTEND;TZID=Europe/Paris:20240330T120000
DTSTAMP:20260421T113948
CREATED:20240319T134043Z
LAST-MODIFIED:20240319T134043Z
UID:2343-1711791000-1711800000@lappeldespioches.com
SUMMARY:Cafe Anartiste
DESCRIPTION:
URL:https://lappeldespioches.com/event/cafe-anartiste-41/
CATEGORIES:Samedis matins
END:VEVENT
END:VCALENDAR